BEGIN:VCALENDAR
VERSION:2.0
PRODID:spatie/icalendar-generator
DESCRIPTION:Events from Ironwood Carnegie Library
X-WR-CALDESC:Events from Ironwood Carnegie Library
REFRESH-INTERVAL;VALUE=DURATION:PT1440M
X-PUBLISHED-TTL:PT1440M
BEGIN:VTIMEZONE
TZID:America/Detroit
BEGIN:STANDARD
DTSTART:20261101T020000Z
TZOFFSETFROM:-0400
TZOFFSETTO:-0500
END:STANDARD
BEGIN:DAYLIGHT
DTSTART:20270314T020000Z
TZOFFSETFROM:-0500
TZOFFSETTO:-0400
END:DAYLIGHT
END:VTIMEZONE
BEGIN:VTIMEZONE
TZID:UTC
BEGIN:STANDARD
DTSTART:20250729T120829Z
TZOFFSETFROM:+0000
TZOFFSETTO:+0000
END:STANDARD
END:VTIMEZONE
BEGIN:VEVENT
UID:7-5
DTSTAMP:20260425T120829Z
SUMMARY:Closed for Christmas Eve and Christmas Day
LOCATION:
ORGANIZER;CN=webmaestro:MAILTO:nathan@mywebmaestro.com
DTSTART;TZID=America/Detroit;VALUE=DATE:20261224
DTEND;TZID=America/Detroit;VALUE=DATE:20261226
X-ALT-DESC;FMTTYPE=TEXT/HTML:We're closed for Christmas so our staff can en
 joy this time with their families. Happy holidays!
CATEGORIES:Holidays
URL;VALUE=URI:https://ironwoodcarnegie.org/mc-events/closed-for-christmas-e
 ve-and-christmas-day/
METHOD:PUBLISH
END:VEVENT
END:VCALENDAR