BEGIN:VCALENDAR
VERSION:2.0
PRODID:spatie/icalendar-generator
DESCRIPTION:Events from Ironwood Carnegie Library
X-WR-CALDESC:Events from Ironwood Carnegie Library
REFRESH-INTERVAL;VALUE=DURATION:PT1440M
X-PUBLISHED-TTL:PT1440M
BEGIN:VTIMEZONE
TZID:America/Detroit
BEGIN:STANDARD
DTSTART:20251102T020000Z
TZOFFSETFROM:-0400
TZOFFSETTO:-0500
END:STANDARD
BEGIN:DAYLIGHT
DTSTART:20260308T020000Z
TZOFFSETFROM:-0500
TZOFFSETTO:-0400
END:DAYLIGHT
BEGIN:STANDARD
DTSTART:20261101T020000Z
TZOFFSETFROM:-0400
TZOFFSETTO:-0500
END:STANDARD
END:VTIMEZONE
BEGIN:VTIMEZONE
TZID:UTC
BEGIN:STANDARD
DTSTART:20250727T135432Z
TZOFFSETFROM:+0000
TZOFFSETTO:+0000
END:STANDARD
END:VTIMEZONE
BEGIN:VEVENT
UID:5-3
DTSTAMP:20260423T135432Z
SUMMARY:Closed for Independence Day
LOCATION:
ORGANIZER;CN=webmaestro:MAILTO:nathan@mywebmaestro.com
DTSTART;TZID=America/Detroit;VALUE=DATE:20260704
DTEND;TZID=America/Detroit;VALUE=DATE:20260705
X-ALT-DESC;FMTTYPE=TEXT/HTML:Celebrate safely this year and enjoy the festi
 vities!
CATEGORIES:Holidays
URL;VALUE=URI:https://ironwoodcarnegie.org/mc-events/closed-for-independenc
 e-day/
METHOD:PUBLISH
END:VEVENT
END:VCALENDAR