BEGIN:VCALENDAR
VERSION:2.0
PRODID:spatie/icalendar-generator
DESCRIPTION:Events from Ironwood Carnegie Library
X-WR-CALDESC:Events from Ironwood Carnegie Library
REFRESH-INTERVAL;VALUE=DURATION:PT1440M
X-PUBLISHED-TTL:PT1440M
BEGIN:VTIMEZONE
TZID:America/Detroit
BEGIN:STANDARD
DTSTART:20251102T020000Z
TZOFFSETFROM:-0400
TZOFFSETTO:-0500
END:STANDARD
BEGIN:DAYLIGHT
DTSTART:20260308T020000Z
TZOFFSETFROM:-0500
TZOFFSETTO:-0400
END:DAYLIGHT
BEGIN:STANDARD
DTSTART:20261101T020000Z
TZOFFSETFROM:-0400
TZOFFSETTO:-0500
END:STANDARD
END:VTIMEZONE
BEGIN:VTIMEZONE
TZID:UTC
BEGIN:STANDARD
DTSTART:20250727T140830Z
TZOFFSETFROM:+0000
TZOFFSETTO:+0000
END:STANDARD
END:VTIMEZONE
BEGIN:VEVENT
UID:4-2
DTSTAMP:20260423T140830Z
SUMMARY:Closed for Memorial Day
LOCATION:
ORGANIZER;CN=webmaestro:MAILTO:nathan@mywebmaestro.com
DTSTART;TZID=America/Detroit;VALUE=DATE:20260525
DTEND;TZID=America/Detroit;VALUE=DATE:20260526
X-ALT-DESC;FMTTYPE=TEXT/HTML:If you have served in the military\, we would 
 like to thank you. In honor of those who have fallen\, we are closed for M
 emorial Day.
CATEGORIES:Holidays
URL;VALUE=URI:https://ironwoodcarnegie.org/mc-events/closed-for-memorial-da
 y/
METHOD:PUBLISH
END:VEVENT
END:VCALENDAR