BEGIN:VCALENDAR
VERSION:2.0
PRODID:spatie/icalendar-generator
DESCRIPTION:Events from Ironwood Carnegie Library
X-WR-CALDESC:Events from Ironwood Carnegie Library
REFRESH-INTERVAL;VALUE=DURATION:PT1440M
X-PUBLISHED-TTL:PT1440M
BEGIN:VTIMEZONE
TZID:America/Detroit
BEGIN:DAYLIGHT
DTSTART:20260308T020000Z
TZOFFSETFROM:-0500
TZOFFSETTO:-0400
END:DAYLIGHT
BEGIN:STANDARD
DTSTART:20261101T020000Z
TZOFFSETFROM:-0400
TZOFFSETTO:-0500
END:STANDARD
END:VTIMEZONE
BEGIN:VTIMEZONE
TZID:UTC
BEGIN:STANDARD
DTSTART:20250727T153334Z
TZOFFSETFROM:+0000
TZOFFSETTO:+0000
END:STANDARD
END:VTIMEZONE
BEGIN:VEVENT
UID:6-4
DTSTAMP:20260423T153334Z
SUMMARY:Closed for Labor Day
LOCATION:
ORGANIZER;CN=webmaestro:MAILTO:nathan@mywebmaestro.com
DTSTART;TZID=America/Detroit;VALUE=DATE:20260907
DTEND;TZID=America/Detroit;VALUE=DATE:20260908
X-ALT-DESC;FMTTYPE=TEXT/HTML:We are closed for this federal holiday.
CATEGORIES:Holidays
URL;VALUE=URI:https://ironwoodcarnegie.org/mc-events/closed-for-labor-day/
METHOD:PUBLISH
END:VEVENT
END:VCALENDAR