BEGIN:VCALENDAR
VERSION:2.0
PRODID:-//Plone.org//NONSGML plone.app.event//EN
X-WR-TIMEZONE:US/Central
BEGIN:VEVENT
SUMMARY:The Stewardship of Natural Resources
DTSTART;TZID=US/Central:20220831T173000
DTSTAMP:20260422T045604Z
UID:2f16c9eb4f87441d888caffbd9e74fc7@saas_stack_varnish:6080
CONTACT:Lynne Wiercinski\, 906-932-0203\, Lynne@ironwoodcarnegie.org\, htt
 ps://fb.me/e/2L61HuT6X
CREATED:20220823T185222Z
LAST-MODIFIED:20220823T185235Z
LOCATION:Ironwood Carnegie Library
URL:https://ironwoodcarnegie.org/news-events/calendar/the-stewardship-of-n
 atural-resources
END:VEVENT
BEGIN:VTIMEZONE
TZID:US/Central
X-LIC-LOCATION:US/Central
BEGIN:DAYLIGHT
DTSTART:20220313T030000
TZNAME:CDT
TZOFFSETFROM:-0600
TZOFFSETTO:-0500
END:DAYLIGHT
END:VTIMEZONE
END:VCALENDAR
