BEGIN:VCALENDAR
VERSION:2.0
PRODID:-//Plone.org//NONSGML plone.app.event//EN
X-WR-TIMEZONE:US/Central
BEGIN:VEVENT
SUMMARY:SPECIAL MEETING of the Ironwood Carnegie Library Board of Trustees
DTSTART;TZID=US/Central:20240104T160000
DTEND;TZID=US/Central:20240104T170000
DTSTAMP:20260422T030929Z
UID:437a739350de4faaa2b478d960c5bf90@saas_stack_varnish:6080
CONTACT:Lynne Wiercinski\, Directo\, (906) 932-0203\, Lynne@ironwoodcarneg
 ie.org
CREATED:20240102T162744Z
DESCRIPTION:meeting
LAST-MODIFIED:20240102T162831Z
LOCATION:Ironwood Memorial Building-Women's Clubrooms
URL:https://ironwoodcarnegie.org/news-events/calendar/special-meeting-of-t
 he-ironwood-carnegie-library-board-of-trustees
END:VEVENT
BEGIN:VTIMEZONE
TZID:US/Central
X-LIC-LOCATION:US/Central
BEGIN:STANDARD
DTSTART:20231105T010000
TZNAME:CST
TZOFFSETFROM:-0500
TZOFFSETTO:-0600
END:STANDARD
END:VTIMEZONE
END:VCALENDAR
