BEGIN:VCALENDAR
VERSION:2.0
PRODID:-//Plone.org//NONSGML plone.app.event//EN
X-WR-TIMEZONE:US/Central
BEGIN:VEVENT
SUMMARY:Friends of the Library Fall Book Sale
DTSTART;TZID=US/Central:20221015T073000
DTEND;TZID=US/Central:20221015T140000
DTSTAMP:20260422T045841Z
UID:772612bda183469690de004b902bb5e9@saas_stack_varnish:6080
CONTACT:Lynne Wiercinski\, 906.932.4789\, lynne@ironwoodcarnegie.org
CREATED:20221011T170113Z
DESCRIPTION:Great quality used book sale
LAST-MODIFIED:20221011T170159Z
LOCATION:Ironwood Memorial Building
URL:https://ironwoodcarnegie.org/news-events/calendar/friends-of-the-libra
 ry-fall-book-sale
END:VEVENT
BEGIN:VTIMEZONE
TZID:US/Central
X-LIC-LOCATION:US/Central
BEGIN:DAYLIGHT
DTSTART:20220313T030000
TZNAME:CDT
TZOFFSETFROM:-0600
TZOFFSETTO:-0500
END:DAYLIGHT
END:VTIMEZONE
END:VCALENDAR
