BEGIN:VCALENDAR
VERSION:2.0
PRODID:-//Plone.org//NONSGML plone.app.event//EN
X-WR-TIMEZONE:US/Central
BEGIN:VEVENT
SUMMARY:Cuddlebugs Story Time for Babies and Toddlers
DTSTART;TZID=US/Central:20240117T103000
DTEND;TZID=US/Central:20240117T113000
DTSTAMP:20260422T031221Z
UID:1ac653875a9648bbab129c9355f1cc32@saas_stack_varnish:6080
CONTACT:Lynne Wiercinski\, Director\, 9069320203\, Lynne@ironwoodcarnegie.
 org
CREATED:20240108T194112Z
DESCRIPTION:library events\nStory time
LAST-MODIFIED:20240108T194125Z
LOCATION:Ironwood Carnegie Library
URL:https://ironwoodcarnegie.org/news-events/calendar/cuddlebugs-story-tim
 e-for-babies-and-toddlers-4
END:VEVENT
BEGIN:VTIMEZONE
TZID:US/Central
X-LIC-LOCATION:US/Central
BEGIN:STANDARD
DTSTART:20231105T010000
TZNAME:CST
TZOFFSETFROM:-0500
TZOFFSETTO:-0600
END:STANDARD
END:VTIMEZONE
END:VCALENDAR
