BEGIN:VCALENDAR
VERSION:2.0
PRODID:-//Plone.org//NONSGML plone.app.event//EN
X-WR-TIMEZONE:US/Central
BEGIN:VEVENT
SUMMARY:Closed for Thanksgiving Break
DTSTART;VALUE=DATE:20231124
DTEND;VALUE=DATE:20231125
DTSTAMP:20260422T031159Z
UID:ab550998da7a4652bc14f29fa88a40b9@saas_stack_varnish:6080
CREATED:20231011T162403Z
LAST-MODIFIED:20231011T162701Z
URL:https://ironwoodcarnegie.org/news-events/calendar/closed-for-thanksgiv
 ing-break
END:VEVENT
END:VCALENDAR
