BEGIN:VCALENDAR
VERSION:2.0
PRODID:-//Plone.org//NONSGML plone.app.event//EN
X-WR-TIMEZONE:US/Central
BEGIN:VEVENT
SUMMARY:Adult Poetry Group
DTSTART;TZID=US/Central:20221017T053000
DTEND;TZID=US/Central:20221017T183000
DTSTAMP:20260422T045414Z
UID:f48b8367970a4d0d9fc7099faaf51f12@saas_stack_varnish:6080
CONTACT:906.932.4789
CREATED:20221011T171314Z
LAST-MODIFIED:20221011T171340Z
LOCATION:Ironwood Carnegie Library
URL:https://ironwoodcarnegie.org/news-events/calendar/adult-poetry-group
END:VEVENT
BEGIN:VTIMEZONE
TZID:US/Central
X-LIC-LOCATION:US/Central
BEGIN:DAYLIGHT
DTSTART:20220313T030000
TZNAME:CDT
TZOFFSETFROM:-0600
TZOFFSETTO:-0500
END:DAYLIGHT
END:VTIMEZONE
END:VCALENDAR
