BEGIN:VCALENDAR
VERSION:2.0
PRODID:-//Plone.org//NONSGML plone.app.event//EN
X-WR-TIMEZONE:US/Central
BEGIN:VEVENT
SUMMARY:Adult Poetry Group
DTSTART;TZID=US/Central:20241118T173000
DTEND;TZID=US/Central:20241118T183000
DTSTAMP:20260422T084158Z
UID:f3b06ca7d4eb4d3ca6590b5b00c6a307@saas_stack_varnish:6080
CONTACT:Lyynne Wiercinski\, 9069324789\, Lynne@ironwoodcarnegie.org
CREATED:20241030T195444Z
LAST-MODIFIED:20241030T195543Z
LOCATION:Ironwood Carnegie Library
URL:https://ironwoodcarnegie.org/news-events/calendar/adult-poetry-group-8
END:VEVENT
BEGIN:VTIMEZONE
TZID:US/Central
X-LIC-LOCATION:US/Central
BEGIN:STANDARD
DTSTART:20241103T010000
TZNAME:CST
TZOFFSETFROM:-0500
TZOFFSETTO:-0600
END:STANDARD
END:VTIMEZONE
END:VCALENDAR
