BEGIN:VCALENDAR
VERSION:2.0
PRODID:-//Plone.org//NONSGML plone.app.event//EN
X-WR-TIMEZONE:US/Central
BEGIN:VEVENT
SUMMARY:Adult Poetry Group
DTSTART;TZID=US/Central:20231218T173000
DTEND;TZID=US/Central:20231218T183000
DTSTAMP:20260422T031651Z
UID:2bb9cb8153e2431ab2a02162dda9339f@saas_stack_varnish:6080
CONTACT:Lynne Wiercinski\, (906) 932-0203\, lyne@ironwoodcarnegie.org
CREATED:20221229T160852Z
DESCRIPTION:Writing/poetry
LAST-MODIFIED:20231023T195500Z
LOCATION:Ironwood Carnegie Library
URL:https://ironwoodcarnegie.org/news-events/calendar/adult-poetry-group-1
 /2023-12-18
END:VEVENT
BEGIN:VTIMEZONE
TZID:US/Central
X-LIC-LOCATION:US/Central
BEGIN:STANDARD
DTSTART:20231105T010000
TZNAME:CST
TZOFFSETFROM:-0500
TZOFFSETTO:-0600
END:STANDARD
END:VTIMEZONE
END:VCALENDAR
