BEGIN:VCALENDAR
VERSION:2.0
PRODID:-//Plone.org//NONSGML plone.app.event//EN
X-WR-TIMEZONE:US/Central
BEGIN:VEVENT
SUMMARY:Ironwood Carnegie Library Book Club
DTSTART;TZID=US/Central:20221011T160000
DTSTAMP:20260422T045531Z
UID:a6a097fd82e44dcd8f68dcc4082f4f46@saas_stack_varnish:6080
CONTACT:Lynne Wiercinski\, 906-932-0203\, Lynne@ironwoodcarnegie.org
CREATED:20220928T130923Z
LAST-MODIFIED:20221010T141405Z
URL:https://ironwoodcarnegie.org/news-events/calendar/adult-book-club
END:VEVENT
BEGIN:VTIMEZONE
TZID:US/Central
X-LIC-LOCATION:US/Central
BEGIN:DAYLIGHT
DTSTART:20220313T030000
TZNAME:CDT
TZOFFSETFROM:-0600
TZOFFSETTO:-0500
END:DAYLIGHT
END:VTIMEZONE
END:VCALENDAR
