BEGIN:VCALENDAR
VERSION:2.0
PRODID:-//Plone.org//NONSGML plone.app.event//EN
X-WR-TIMEZONE:US/Central
BEGIN:VEVENT
SUMMARY:Adult Book Club
DTSTART;TZID=US/Central:20240204T160000
DTEND;TZID=US/Central:20240204T170000
DTSTAMP:20260422T032812Z
UID:c51d2cfdf52f463ebb08704ac24efcd4@saas_stack_varnish:6080
CONTACT:Lynne Wiercinski\, 9069324789\, Lynne@ironwoodcarnegie.org
CREATED:20240204T215256Z
LAST-MODIFIED:20240204T215310Z
LOCATION:Ironwood Carnegie Library
URL:https://ironwoodcarnegie.org/adult-book-club-1
END:VEVENT
BEGIN:VTIMEZONE
TZID:US/Central
X-LIC-LOCATION:US/Central
BEGIN:STANDARD
DTSTART:20231105T010000
TZNAME:CST
TZOFFSETFROM:-0500
TZOFFSETTO:-0600
END:STANDARD
END:VTIMEZONE
END:VCALENDAR
